BEGIN:VCALENDAR
VERSION:2.0
PRODID:-// eRoom plugin //NONSGML v1.0//EN
CALSCALE:GREGORIAN
BEGIN:VEVENT
UID:eRoom-1776659234
SUMMARY:Zoom test
LOCATION:Zoom
DESCRIPTION:https://us04web.zoom.us/j/77576431665?pwd=U4hxJomdWqPCWX8L1LGcR
 egF8XCLZ9.1\n\n---\n\nZoom test is inviting you to a scheduled Zoom meetin
 g.\n\nJoin Zoom Meeting\nhttps://us04web.zoom.us/j/76393502892?pwd=8cBMgg0
 Ro7x9NpDTiE2BjajVwkgJb4.1\n\nMeeting ID: 76393502892\nPasscode: Ctw62A\n
URL;VALUE=URI:https://us04web.zoom.us/j/76393502892?pwd=8cBMgg0Ro7x9NpDTiE2BjajVwkgJb4.1
DTSTART:20250617T045600Z
DTEND:20250617T045800Z
DTSTAMP:20260420T042714Z
BEGIN:VALARM
ACTION:DISPLAY
DESCRIPTION:Reminder
TRIGGER;RELATED=START:-PT15M
END:VALARM
END:VEVENT
END:VCALENDAR