BEGIN:VCALENDAR
VERSION:2.0
PRODID:-// eRoom plugin //NONSGML v1.0//EN
CALSCALE:GREGORIAN
BEGIN:VEVENT
UID:eRoom-1776663424
SUMMARY:Zoom Live Test
LOCATION:Zoom
DESCRIPTION:Zoom Live Test is inviting you to a scheduled Zoom meeting.\n\n
 Join Zoom Meeting\nhttps://us04web.zoom.us/j/75076911939?pwd=TfYnb86SLwVY3
 Thg7zmERoNLfRia6H.1\n\nMeeting ID: 75076911939\nPasscode: AdGfE4\n
URL;VALUE=URI:https://us04web.zoom.us/j/75076911939?pwd=TfYnb86SLwVY3Thg7zmERoNLfRia6H.1
DTSTART:20250702T154600Z
DTEND:20250702T154800Z
DTSTAMP:20260420T053704Z
BEGIN:VALARM
ACTION:DISPLAY
DESCRIPTION:Reminder
TRIGGER;RELATED=START:-PT15M
END:VALARM
END:VEVENT
END:VCALENDAR