BEGIN:VCALENDAR
VERSION:2.0
PRODID:-// eRoom plugin //NONSGML v1.0//EN
CALSCALE:GREGORIAN
BEGIN:VEVENT
UID:eRoom-1776657579
SUMMARY:Session Onboarding
LOCATION:Zoom
DESCRIPTION:Welcome\n\n---\n\nSession Onboarding is inviting you to a sched
 uled Zoom meeting.\n\nJoin Zoom Meeting\nhttps://us04web.zoom.us/j/7738883
 5011?pwd=II6vJFSkgClQpp1xZ4gajkrZ1Lj1un.1\n\nMeeting ID: 77388835011\nPass
 code: july2\n
URL;VALUE=URI:https://us04web.zoom.us/j/77388835011?pwd=II6vJFSkgClQpp1xZ4gajkrZ1Lj1un.1
DTSTART:20250702T154000Z
DTEND:20250702T154100Z
DTSTAMP:20260420T035939Z
BEGIN:VALARM
ACTION:DISPLAY
DESCRIPTION:Reminder
TRIGGER;RELATED=START:-PT15M
END:VALARM
END:VEVENT
END:VCALENDAR