BEGIN:VCALENDAR
VERSION:2.0
PRODID:-// eRoom plugin //NONSGML v1.0//EN
CALSCALE:GREGORIAN
BEGIN:VEVENT
UID:eRoom-1776657583
SUMMARY:fff
LOCATION:Zoom
DESCRIPTION:fff is inviting you to a scheduled Zoom meeting.\n\nJoin Zoom M
 eeting\nhttps://us04web.zoom.us/j/75248794893?pwd=tQHVwoajuN9WIBE96b4bMyFT
 uyp5yD.1\n\nMeeting ID: 75248794893\nPasscode: Ttgg9hg\n
URL;VALUE=URI:https://us04web.zoom.us/j/75248794893?pwd=tQHVwoajuN9WIBE96b4bMyFTuyp5yD.1
DTSTART:20250626T150300Z
DTEND:20250626T160300Z
DTSTAMP:20260420T035943Z
BEGIN:VALARM
ACTION:DISPLAY
DESCRIPTION:Reminder
TRIGGER;RELATED=START:-PT15M
END:VALARM
END:VEVENT
END:VCALENDAR